BEGIN:VCALENDAR
VERSION:2.0
PRODID:-//eventon.com NONSGML v1.0//EN
CALSCALE:GREGORIAN
METHOD:PUBLISH
BEGIN:VEVENT
UID:69e635bc7e833
DTSTAMP:20260420T141836Z
DTSTART:20260423T160000Z
DTEND:20260423T210000Z
LOCATION:
SUMMARY:“Our Gente” Thursday Drop-in Hours @ The Epicenter / Salinas – In Person
DESCRIPTION:Thursdays are our LGBTQ+ specific drop-in hours at The Epicente
 r! If you are or know an LGBTQ+ identifying young person seeking community 
 or support\,  Thursdays are a great opportunity to find it. Hope to see you
  soon! &#8220;Our Gente&#8221; Thursday Drop-in Hours @ The Epicenter / Sal
 inas &#8211; In Person\nhttps://safeschoolsproject.org/events/our-gente-thu
 rsday-drop-in-hours-the-epicenter-salinas-in-person-2/
URL:https://safeschoolsproject.org/events/our-gente-thursday-drop-in-hours-the-epicenter-salinas-in-person-2/
END:VEVENT
END:VCALENDAR