BEGIN:VCALENDAR
VERSION:2.0
PRODID:-//eventon.com NONSGML v1.0//EN
CALSCALE:GREGORIAN
METHOD:PUBLISH
BEGIN:VEVENT
UID:69e7a9f66af97
DTSTAMP:20260421T164646Z
DTSTART:20260804T201500Z
DTEND:20260804T210000Z
LOCATION:
SUMMARY:Queer Student Union Meetings
DESCRIPTION:Queer Student Union (QSU) is a space for LGBTQ+ high school stu
 dents across Santa Cruz County to connect\,  create\,  and lead. Whether yo
 u’re passionate about advocacy\,  curious about exploring Queer liberatio
 n\,  or just want to find community\,  QSU is where you can make your voice
  heard and your ideas come[..]\nhttps://safeschoolsproject.org/events/queer
 -student-union-meetings-2/var/ri-15.l-L1
URL:https://safeschoolsproject.org/events/queer-student-union-meetings-2/var/ri-15.l-L1
END:VEVENT
END:VCALENDAR