BEGIN:VCALENDAR
VERSION:2.0
PRODID:-//eventon.com NONSGML v1.0//EN
CALSCALE:GREGORIAN
METHOD:PUBLISH
BEGIN:VEVENT
UID:69e660e433ce8
DTSTAMP:20260420T172244Z
DTSTART:20260429T160000Z
DTEND:20260429T210000Z
LOCATION:The Epicenter 737 South Main Street The Epicenter 737 South Main Street
SUMMARY:LGBTQ+ Drop -In Support Services
DESCRIPTION:LGBTQ+ Drop -In Support Services https://qytf.org/events/lgbtq-
 drop-in-support-services/\nhttps://safeschoolsproject.org/events/lgbtq-drop
 -in-support-services-2/var/ri-1.l-L1
URL:https://safeschoolsproject.org/events/lgbtq-drop-in-support-services-2/var/ri-1.l-L1
END:VEVENT
END:VCALENDAR