BEGIN:VCALENDAR
VERSION:2.0
PRODID:-//eventon.com NONSGML v1.0//EN
CALSCALE:GREGORIAN
METHOD:PUBLISH
BEGIN:VEVENT
UID:69e99f3b0e204
DTSTAMP:20260423T042531Z
DTSTART:20260507T201500Z
DTEND:20260507T210000Z
LOCATION:
SUMMARY:Rainbow Connections Youth Empowerment Council Zoom Meetings\,   1st & 3rd Thursday of Each Month
DESCRIPTION:Shape LGBTQ+ programs – Be the visionaries behind Rainbow Con
 nections youth events! Help plan an event for LGBTQ+ youth in Monterey Coun
 ty. Build leadership skills – Develop leadership skills\,  share your inp
 ut and ideas to help improve programs and services for LGBTQ+ youth in your
  community. Connect with a supportive[..]\nhttps://safeschoolsproject.org/e
 vents/rainbow-connections-youth-empowerment-council-zoom-meetings-1st-3rd-t
 hursday-of-each-month/var/ri-1.l-L1
URL:https://safeschoolsproject.org/events/rainbow-connections-youth-empowerment-council-zoom-meetings-1st-3rd-thursday-of-each-month/var/ri-1.l-L1
END:VEVENT
END:VCALENDAR